{
 "version": 1.0,
 "tileBundlesPath": "./tile",
 "storageInfo": {
  "packetSize": 128,
  "storageFormat": "esriMapCacheStorageModeCompactV2"
 },
 "tileImageInfo": {
  "format": "PNG8",
  "compressionQuality": 0,
  "bandCount": 1,
  "lercError": 0
 },
 "tileInfo": {
  "spatialReference": {
   "wkid": 102100,
   "latestWkid": 3857
  },
  "origin": {
   "x": -2.0037508342787E7,
   "y": 2.0037508342787E7
  },
  "rows": 256,
  "cols": 256,
  "dpi": 96,
  "lods": [
   {
    "level": 0,
    "resolution": 156543.033928,
    "scale": 5.91657527591555E8
   },
   {
    "level": 1,
    "resolution": 78271.5169639999,
    "scale": 2.95828763795777E8
   },
   {
    "level": 2,
    "resolution": 39135.7584820001,
    "scale": 1.47914381897889E8
   },
   {
    "level": 3,
    "resolution": 19567.8792409999,
    "scale": 7.3957190948944E7
   },
   {
    "level": 4,
    "resolution": 9783.93962049996,
    "scale": 3.6978595474472E7
   },
   {
    "level": 5,
    "resolution": 4891.96981024998,
    "scale": 1.8489297737236E7
   },
   {
    "level": 6,
    "resolution": 2445.98490512499,
    "scale": 9244648.868618
   },
   {
    "level": 7,
    "resolution": 1222.99245256249,
    "scale": 4622324.434309
   },
   {
    "level": 8,
    "resolution": 611.49622628138,
    "scale": 2311162.217155
   },
   {
    "level": 9,
    "resolution": 305.748113140558,
    "scale": 1155581.108577
   },
   {
    "level": 10,
    "resolution": 152.874056570411,
    "scale": 577790.554289
   },
   {
    "level": 11,
    "resolution": 76.4370282850732,
    "scale": 288895.277144
   },
   {
    "level": 12,
    "resolution": 38.2185141425366,
    "scale": 144447.638572
   },
   {
    "level": 13,
    "resolution": 19.1092570712683,
    "scale": 72223.819286
   },
   {
    "level": 14,
    "resolution": 9.55462853563415,
    "scale": 36111.909643
   },
   {
    "level": 15,
    "resolution": 4.77731426794937,
    "scale": 18055.954822
   },
   {
    "level": 16,
    "resolution": 2.38865713397468,
    "scale": 9027.977411
   },
   {
    "level": 17,
    "resolution": 1.19432856685505,
    "scale": 4513.988705
   },
   {
    "level": 18,
    "resolution": 0.597164283559817,
    "scale": 2256.994353
   },
   {
    "level": 19,
    "resolution": 0.298582141647617,
    "scale": 1128.497176
   },
   {
    "level": 20,
    "resolution": 0.14929107082380833,
    "scale": 564.248588
   },
   {
    "level": 21,
    "resolution": 0.07464553541190416,
    "scale": 282.124294
   },
   {
    "level": 22,
    "resolution": 0.03732276770595208,
    "scale": 141.062147
   },
   {
    "level": 23,
    "resolution": 0.01866138385297604,
    "scale": 70.5310735
   }
  ],
  "format": "PNG8",
  "compressionQuality": 0,
  "bandCount": 1,
  "lercError": 0,
  "storageFormat": "esriMapCacheStorageModeCompactV2",
  "packetSize": 128
 },
 "name": "Carte",
 "serviceDescription": "",
 "spatialReference": {
  "wkid": 102100,
  "latestWkid": 3857,
  "xyTolerance": 0.001,
  "zTolerance": 0.001,
  "mTolerance": 0.001,
  "falseX": -20037700,
  "falseY": -30241100,
  "xyUnits": 1.4892314192838538E8,
  "falseZ": -100000,
  "zUnits": 10000,
  "falseM": -100000,
  "mUnits": 10000
 },
 "units": "esriMeters",
 "minLOD": 10,
 "maxLOD": 20,
 "resampling": true,
 "layers": [
  {
   "id": 1,
   "name": "Cosia_Draguignan",
   "parentLayerId": -1,
   "defaultVisibility": true,
   "subLayerIds": null,
   "minScale": 0,
   "maxScale": 0,
   "type": "Feature Layer",
   "geometryType": "esriGeometryPolygon",
   "supportsDynamicLegends": true,
   "legend": [
    {
     "label": "Broussaille",
     "imageData": "iVBORw0KGgoAAAANSUhEUgAAABQAAAAUCAYAAACNiR0NAAAACXBIWXMAAA7EAAAOxAGVKw4bAAAAO0lEQVQ4jWNZfTbtPwOVQKjxLEYWBioDllEDKQYslBuBCkYNpBywUMEMFDBqIOWAZQQaGGo8i5GaJgIAWsQFdEaC160AAAAASUVORK5CYII=",
     "contentType": "image/png",
     "groupId": "0",
     "height": 20,
     "width": 20,
     "values": [
      "Broussaille"
     ],
     "layerId": 1,
     "layerName": "Cosia_Draguignan"
    },
    {
     "label": "Bâtiment",
     "imageData": "iVBORw0KGgoAAAANSUhEUgAAABQAAAAUCAYAAACNiR0NAAAACXBIWXMAAA7EAAAOxAGVKw4bAAAAOUlEQVQ4je3MMREAMAgDQLiLNDyhoZ7irZ2Zk628gMepumHSZCLMsKEMejFtqIPhGDbU4cOwyXSOD10rBkHJ/eWIAAAAAElFTkSuQmCC",
     "contentType": "image/png",
     "groupId": "0",
     "height": 20,
     "width": 20,
     "values": [
      "Bâtiment"
     ],
     "layerId": 1,
     "layerName": "Cosia_Draguignan"
    },
    {
     "label": "Conifère",
     "imageData": "iVBORw0KGgoAAAANSUhEUgAAABQAAAAUCAYAAACNiR0NAAAACXBIWXMAAA7EAAAOxAGVKw4bAAAAOUlEQVQ4je3MMREAMAgDwHAXLTVYHRjEDJ2Zk628gOe5aJhUIggzbiijXkwb6mg4hg11/DCsRDjHBwtYBLn1xBJcAAAAAElFTkSuQmCC",
     "contentType": "image/png",
     "groupId": "0",
     "height": 20,
     "width": 20,
     "values": [
      "Conifère"
     ],
     "layerId": 1,
     "layerName": "Cosia_Draguignan"
    },
    {
     "label": "Coupe",
     "imageData": "iVBORw0KGgoAAAANSUhEUgAAABQAAAAUCAYAAACNiR0NAAAACXBIWXMAAA7EAAAOxAGVKw4bAAAAOUlEQVQ4je3MMREAMAgDwHAXFShEUhXWBp2Zk628gOc9aJhkIQgzbiijXkwb6mg4hg11/DDMQjjHBwfpA9R1sdgiAAAAAElFTkSuQmCC",
     "contentType": "image/png",
     "groupId": "0",
     "height": 20,
     "width": 20,
     "values": [
      "Coupe"
     ],
     "layerId": 1,
     "layerName": "Cosia_Draguignan"
    },
    {
     "label": "Culture",
     "imageData": "iVBORw0KGgoAAAANSUhEUgAAABQAAAAUCAYAAACNiR0NAAAACXBIWXMAAA7EAAAOxAGVKw4bAAAAOElEQVQ4je3MoREAMAgDQLiLy8YdgI3RrUYnrvwAj+5zw4SsRJhhQxn0YtpQB8MxbKjDhyFZ6RwfWPwE7kWA87sAAAAASUVORK5CYII=",
     "contentType": "image/png",
     "groupId": "0",
     "height": 20,
     "width": 20,
     "values": [
      "Culture"
     ],
     "layerId": 1,
     "layerName": "Cosia_Draguignan"
    },
    {
     "label": "Feuillu",
     "imageData": "iVBORw0KGgoAAAANSUhEUgAAABQAAAAUCAYAAACNiR0NAAAACXBIWXMAAA7EAAAOxAGVKw4bAAAAOUlEQVQ4je3MMREAMAgDwHAXkcioFGTUJZ2Zk628gOe5aJhUIggzbiijXkwb6mg4hg11/DCsRDjHBwmRBDojMoZvAAAAAElFTkSuQmCC",
     "contentType": "image/png",
     "groupId": "0",
     "height": 20,
     "width": 20,
     "values": [
      "Feuillu"
     ],
     "layerId": 1,
     "layerName": "Cosia_Draguignan"
    },
    {
     "label": "Pelouse",
     "imageData": "iVBORw0KGgoAAAANSUhEUgAAABQAAAAUCAYAAACNiR0NAAAACXBIWXMAAA7EAAAOxAGVKw4bAAAAOUlEQVQ4je3MMREAMAgDQHIXP4irDsRVEZ2Zk628gOft02GSKDDMuKGMejFtqKPhGDbU8cMwUXCOD1l8BQ80pvegAAAAAElFTkSuQmCC",
     "contentType": "image/png",
     "groupId": "0",
     "height": 20,
     "width": 20,
     "values": [
      "Pelouse"
     ],
     "layerId": 1,
     "layerName": "Cosia_Draguignan"
    },
    {
     "label": "Piscine",
     "imageData": "iVBORw0KGgoAAAANSUhEUgAAABQAAAAUCAYAAACNiR0NAAAACXBIWXMAAA7EAAAOxAGVKw4bAAAAOElEQVQ4jWNhWPnsPwO1QLgUIwsDlQHLqIEUAxbKjUAFowZSDlioYAYKGDWQcsAyEg0Ml2KkpokABYIDw5v94bIAAAAASUVORK5CYII=",
     "contentType": "image/png",
     "groupId": "0",
     "height": 20,
     "width": 20,
     "values": [
      "Piscine"
     ],
     "layerId": 1,
     "layerName": "Cosia_Draguignan"
    },
    {
     "label": "Serre",
     "imageData": "iVBORw0KGgoAAAANSUhEUgAAABQAAAAUCAYAAACNiR0NAAAACXBIWXMAAA7EAAAOxAGVKw4bAAAAO0lEQVQ4jWNJO7v6PwOVwCzjUEYWBioDllEDKQYslBuBCkYNpBywUMEMFDBqIOWAZQQaOMs4lJGaJgIAW04FdBKN9+EAAAAASUVORK5CYII=",
     "contentType": "image/png",
     "groupId": "0",
     "height": 20,
     "width": 20,
     "values": [
      "Serre"
     ],
     "layerId": 1,
     "layerName": "Cosia_Draguignan"
    },
    {
     "label": "Sol nu",
     "imageData": "iVBORw0KGgoAAAANSUhEUgAAABQAAAAUCAYAAACNiR0NAAAACXBIWXMAAA7EAAAOxAGVKw4bAAAAOklEQVQ4jWO5vmHefwYqAc2AJEYWBioDllEDKQYslBuBCkYNpBywUMEMFDBqIOWAZQQaqBmQxEhNEwFZ+wUtNuaoDwAAAABJRU5ErkJggg==",
     "contentType": "image/png",
     "groupId": "0",
     "height": 20,
     "width": 20,
     "values": [
      "Sol nu"
     ],
     "layerId": 1,
     "layerName": "Cosia_Draguignan"
    },
    {
     "label": "Surface eau",
     "imageData": "iVBORw0KGgoAAAANSUhEUgAAABQAAAAUCAYAAACNiR0NAAAACXBIWXMAAA7EAAAOxAGVKw4bAAAAN0lEQVQ4je3MoREAMAgDwHCX9eoZsZ4BqUYnrvwAT5zbcKkMwowbyqgX04Y6Go5hQx1/DCvDOT4HEgRdqLsM1AAAAABJRU5ErkJggg==",
     "contentType": "image/png",
     "groupId": "0",
     "height": 20,
     "width": 20,
     "values": [
      "Surface eau"
     ],
     "layerId": 1,
     "layerName": "Cosia_Draguignan"
    },
    {
     "label": "Terre labourée",
     "imageData": "iVBORw0KGgoAAAANSUhEUgAAABQAAAAUCAYAAACNiR0NAAAACXBIWXMAAA7EAAAOxAGVKw4bAAAAO0lEQVQ4jWM5uyrtPwOVgHHYLEYWBioDllEDKQYslBuBCkYNpBywUMEMFDBqIOWAZQQaaBw2i5GaJgIAWqUFdcMO8DgAAAAASUVORK5CYII=",
     "contentType": "image/png",
     "groupId": "0",
     "height": 20,
     "width": 20,
     "values": [
      "Terre labourée"
     ],
     "layerId": 1,
     "layerName": "Cosia_Draguignan"
    },
    {
     "label": "Vigne",
     "imageData": "iVBORw0KGgoAAAANSUhEUgAAABQAAAAUCAYAAACNiR0NAAAACXBIWXMAAA7EAAAOxAGVKw4bAAAAOklEQVQ4jWM5NO/6fwYqAbskTUYWBioDllEDKQYslBuBCkYNpBywUMEMFDBqIOWAZQQaaJekyUhNEwFaEwUb9WJ29gAAAABJRU5ErkJggg==",
     "contentType": "image/png",
     "groupId": "0",
     "height": 20,
     "width": 20,
     "values": [
      "Vigne"
     ],
     "layerId": 1,
     "layerName": "Cosia_Draguignan"
    },
    {
     "label": "Zone imperméable",
     "imageData": "iVBORw0KGgoAAAANSUhEUgAAABQAAAAUCAYAAACNiR0NAAAACXBIWXMAAA7EAAAOxAGVKw4bAAAANUlEQVQ4je3MsREAMAgCQL1jbgoXT2pr6OQHeMzMKxOSjTJDQhn0Ykuog+FYEupwMCTZzvEDXBEFzAKqk90AAAAASUVORK5CYII=",
     "contentType": "image/png",
     "groupId": "0",
     "height": 20,
     "width": 20,
     "values": [
      "Zone imperméable"
     ],
     "layerId": 1,
     "layerName": "Cosia_Draguignan"
    },
    {
     "label": "Zone perméable",
     "imageData": "iVBORw0KGgoAAAANSUhEUgAAABQAAAAUCAYAAACNiR0NAAAACXBIWXMAAA7EAAAOxAGVKw4bAAAAOUlEQVQ4je3MMREAMAgDwHAXeXVTHbjBH52Zk628gOc9aJhkIQgzbiijXkwb6mg4hg11/DDMQjjHBwqZBJP662C7AAAAAElFTkSuQmCC",
     "contentType": "image/png",
     "groupId": "0",
     "height": 20,
     "width": 20,
     "values": [
      "Zone perméable"
     ],
     "layerId": 1,
     "layerName": "Cosia_Draguignan"
    }
   ],
   "layerId": 1,
   "layerName": "Cosia_Draguignan",
   "serviceItemId": "2cc2806a1f4544b694667b77d34c9207"
  }
 ],
 "initialExtent": {
  "xmin": 711197.4359146417,
  "ymin": 5386654.508803872,
  "xmax": 728109.5369677299,
  "ymax": 5400457.097464849,
  "spatialReference": {
   "wkid": 102100,
   "latestWkid": 3857
  }
 },
 "fullExtent": {
  "xmin": 711197.4359146417,
  "ymin": 5386654.508803872,
  "xmax": 728109.5369677299,
  "ymax": 5400457.097464849,
  "spatialReference": {
   "wkid": 102100,
   "latestWkid": 3857
  }
 },
 "minScale": 0,
 "maxScale": 0,
 "exportTilesAllowed": false,
 "maxExportTilesCount": 0,
 "currentVersion": 11.3,
 "mapName": "Carte",
 "singleFusedMapCache": true,
 "type": "MapServer",
 "supportedExtensions": "",
 "capabilities": "TilesOnly,Tilemap",
 "serviceItemId": "2cc2806a1f4544b694667b77d34c9207"
}
