<?xml version="1.0" encoding="UTF-8" standalone="no"?>
<metadata xml:lang="fr">
<Esri>
<CreaDate>20220927</CreaDate>
<CreaTime>11413100</CreaTime>
<ArcGISFormat>1.0</ArcGISFormat>
<SyncOnce>FALSE</SyncOnce>
<DataProperties>
<itemProps>
<itemName Sync="TRUE">MNT1m</itemName>
<itemLocation>
<linkage Sync="TRUE">file://C:\etudes\Roya\MNT1m\MNT1m</linkage>
<protocol Sync="TRUE">Local Area Network</protocol>
</itemLocation>
<imsContentType Sync="TRUE">002</imsContentType>
<nativeExtBox>
<westBL Sync="TRUE">1060999.500122</westBL>
<eastBL Sync="TRUE">1063999.500122</eastBL>
<southBL Sync="TRUE">6325000.500122</southBL>
<northBL Sync="TRUE">6328000.500122</northBL>
<exTypeCode Sync="TRUE">1</exTypeCode>
</nativeExtBox>
</itemProps>
<coordRef>
<type Sync="TRUE">Projected</type>
<geogcsn Sync="TRUE">GCS_RGF_1993</geogcsn>
<csUnits Sync="TRUE">Linear Unit: Meter (1.000000)</csUnits>
<projcsn Sync="TRUE">RGF_1993_Lambert_Conformal_Conic</projcsn>
<peXml Sync="TRUE">&lt;ProjectedCoordinateSystem xsi:type='typens:ProjectedCoordinateSystem' xmlns:xsi='http://www.w3.org/2001/XMLSchema-instance' xmlns:xs='http://www.w3.org/2001/XMLSchema' xmlns:typens='http://www.esri.com/schemas/ArcGIS/2.9.0'&gt;&lt;WKT&gt;PROJCS[&amp;quot;RGF_1993_Lambert_Conformal_Conic&amp;quot;,GEOGCS[&amp;quot;GCS_RGF_1993&amp;quot;,DATUM[&amp;quot;D_RGF_1993&amp;quot;,SPHEROID[&amp;quot;GRS_1980&amp;quot;,6378137.0,298.257222101]],PRIMEM[&amp;quot;Greenwich&amp;quot;,0.0],UNIT[&amp;quot;Degree&amp;quot;,0.0174532925199433]],PROJECTION[&amp;quot;Lambert_Conformal_Conic&amp;quot;],PARAMETER[&amp;quot;False_Easting&amp;quot;,700000.0],PARAMETER[&amp;quot;False_Northing&amp;quot;,6600000.0],PARAMETER[&amp;quot;Central_Meridian&amp;quot;,3.0],PARAMETER[&amp;quot;Standard_Parallel_1&amp;quot;,44.0],PARAMETER[&amp;quot;Standard_Parallel_2&amp;quot;,49.0],PARAMETER[&amp;quot;Latitude_Of_Origin&amp;quot;,46.5],UNIT[&amp;quot;Meter&amp;quot;,1.0]]&lt;/WKT&gt;&lt;XOrigin&gt;-35597500&lt;/XOrigin&gt;&lt;YOrigin&gt;-23641900&lt;/YOrigin&gt;&lt;XYScale&gt;124074650.52332792&lt;/XYScale&gt;&lt;ZOrigin&gt;-100000&lt;/ZOrigin&gt;&lt;ZScale&gt;10000&lt;/ZScale&gt;&lt;MOrigin&gt;-100000&lt;/MOrigin&gt;&lt;MScale&gt;10000&lt;/MScale&gt;&lt;XYTolerance&gt;0.001&lt;/XYTolerance&gt;&lt;ZTolerance&gt;0.001&lt;/ZTolerance&gt;&lt;MTolerance&gt;0.001&lt;/MTolerance&gt;&lt;HighPrecision&gt;true&lt;/HighPrecision&gt;&lt;/ProjectedCoordinateSystem&gt;</peXml>
</coordRef>
<RasterProperties>
<General>
<PixelDepth Sync="TRUE">32</PixelDepth>
<HasColormap Sync="TRUE">FALSE</HasColormap>
<CompressionType Sync="TRUE">None</CompressionType>
<NumBands Sync="TRUE">1</NumBands>
<Format Sync="TRUE">GRID</Format>
<HasPyramids Sync="TRUE">TRUE</HasPyramids>
<SourceType Sync="TRUE">continuous</SourceType>
<PixelType Sync="TRUE">floating point</PixelType>
<NoDataValue Sync="TRUE">3.4e+38</NoDataValue>
</General>
</RasterProperties>
<lineage>
<Process Date="20220927" Time="114131" ToolSource="c:\program files\arcgis\pro\Resources\ArcToolbox\toolboxes\Data Management Tools.tbx\MosaicToNewRaster">MosaicToNewRaster C:\etudes\Roya\MNT1m\RGEALTI_FXX_1061_6326_MNT_LAMB93_IGN69.asc;C:\etudes\Roya\MNT1m\RGEALTI_FXX_1061_6327_MNT_LAMB93_IGN69.asc;C:\etudes\Roya\MNT1m\RGEALTI_FXX_1061_6328_MNT_LAMB93_IGN69.asc;C:\etudes\Roya\MNT1m\RGEALTI_FXX_1062_6326_MNT_LAMB93_IGN69.asc;C:\etudes\Roya\MNT1m\RGEALTI_FXX_1062_6327_MNT_LAMB93_IGN69.asc;C:\etudes\Roya\MNT1m\RGEALTI_FXX_1062_6328_MNT_LAMB93_IGN69.asc;C:\etudes\Roya\MNT1m\RGEALTI_FXX_1063_6326_MNT_LAMB93_IGN69.asc;C:\etudes\Roya\MNT1m\RGEALTI_FXX_1063_6327_MNT_LAMB93_IGN69.asc;C:\etudes\Roya\MNT1m\RGEALTI_FXX_1063_6328_MNT_LAMB93_IGN69.asc C:\etudes\Roya\MNT1m MNT1m PROJCS["RGF_1993_Lambert_93",GEOGCS["GCS_RGF_1993",DATUM["D_RGF_1993",SPHEROID["GRS_1980",6378137.0,298.257222101]],PRIMEM["Greenwich",0.0],UNIT["Degree",0.0174532925199433]],PROJECTION["Lambert_Conformal_Conic"],PARAMETER["False_Easting",700000.0],PARAMETER["False_Northing",6600000.0],PARAMETER["Central_Meridian",3.0],PARAMETER["Standard_Parallel_1",44.0],PARAMETER["Standard_Parallel_2",49.0],PARAMETER["Latitude_Of_Origin",46.5],UNIT["Meter",1.0]] "non signé 8 bits" # 1 Dernier Premier</Process>
</lineage>
</DataProperties>
<SyncDate>20220927</SyncDate>
<SyncTime>11413100</SyncTime>
<ModDate>20220927</ModDate>
<ModTime>11413100</ModTime>
</Esri>
<dataIdInfo>
<envirDesc Sync="TRUE">Microsoft Windows 10 Version 10.0 (Build 17763) ; Esri ArcGIS 12.9.2.32739</envirDesc>
<dataLang>
<languageCode Sync="TRUE" value="fra"/>
<countryCode Sync="TRUE" value="FRA"/>
</dataLang>
<idCitation>
<resTitle Sync="TRUE">MNT1m Breil sur Roya</resTitle>
<presForm>
<PresFormCd Sync="TRUE" value="005"/>
</presForm>
</idCitation>
<spatRpType>
<SpatRepTypCd Sync="TRUE" value="002"/>
</spatRpType>
<dataExt>
<geoEle>
<GeoBndBox esriExtentType="search">
<exTypeCode Sync="TRUE">1</exTypeCode>
<westBL Sync="TRUE">7.497918</westBL>
<eastBL Sync="TRUE">7.537361</eastBL>
<northBL Sync="TRUE">43.958402</northBL>
<southBL Sync="TRUE">43.929904</southBL>
</GeoBndBox>
</geoEle>
</dataExt>
<idAbs/>
<searchKeys>
<keyword>MNT</keyword>
<keyword>Breil</keyword>
</searchKeys>
<idPurp>MNT au pas de 1m secetur Breil sur Roya</idPurp>
<idCredit/>
<resConst>
<Consts>
<useLimit/>
</Consts>
</resConst>
</dataIdInfo>
<mdLang>
<languageCode Sync="TRUE" value="fra"/>
<countryCode Sync="TRUE" value="FRA"/>
</mdLang>
<mdChar>
<CharSetCd Sync="TRUE" value="004"/>
</mdChar>
<distInfo>
<distFormat>
<formatName Sync="TRUE">Jeu de données Raster</formatName>
</distFormat>
</distInfo>
<mdHrLv>
<ScopeCd Sync="TRUE" value="005"/>
</mdHrLv>
<mdHrLvName Sync="TRUE">dataset</mdHrLvName>
<refSysInfo>
<RefSystem>
<refSysID>
<identCode Sync="TRUE" code="0"/>
</refSysID>
</RefSystem>
</refSysInfo>
<spatRepInfo>
<Georect>
<cellGeo>
<CellGeoCd Sync="TRUE" value="002"/>
</cellGeo>
<numDims Sync="TRUE">2</numDims>
<tranParaAv Sync="TRUE">1</tranParaAv>
<chkPtAv Sync="TRUE">0</chkPtAv>
<cornerPts>
<pos Sync="TRUE">1060999.500122 6325000.500122</pos>
</cornerPts>
<cornerPts>
<pos Sync="TRUE">1060999.500122 6328000.500122</pos>
</cornerPts>
<cornerPts>
<pos Sync="TRUE">1063999.500122 6328000.500122</pos>
</cornerPts>
<cornerPts>
<pos Sync="TRUE">1063999.500122 6325000.500122</pos>
</cornerPts>
<centerPt>
<pos Sync="TRUE">1062499.500122 6326500.500122</pos>
</centerPt>
<axisDimension type="002">
<dimSize Sync="TRUE">3000</dimSize>
<dimResol>
<value Sync="TRUE" uom="m">1.000000</value>
</dimResol>
</axisDimension>
<axisDimension type="001">
<dimSize Sync="TRUE">3000</dimSize>
<dimResol>
<value Sync="TRUE" uom="m">1.000000</value>
</dimResol>
</axisDimension>
<ptInPixel>
<PixOrientCd Sync="TRUE" value="001"/>
</ptInPixel>
</Georect>
</spatRepInfo>
<contInfo>
<ImgDesc>
<contentTyp>
<ContentTypCd Sync="TRUE" value="003"/>
</contentTyp>
<covDim>
<Band>
<dimDescrp Sync="TRUE">MNT1m</dimDescrp>
<maxVal Sync="TRUE">1214.619995</maxVal>
<minVal Sync="TRUE">250.970001</minVal>
<bitsPerVal Sync="TRUE">32</bitsPerVal>
<valUnit>
<UOM type="length"/>
</valUnit>
</Band>
</covDim>
</ImgDesc>
</contInfo>
<mdDateSt Sync="TRUE">20220927</mdDateSt>
</metadata>
