View In:
ArcGIS JavaScript
ArcGIS Online Map Viewer
ArcGIS Earth
ArcMap
ArcGIS Pro
View Footprint In:
ArcGIS Online Map Viewer
Service Description:
Map Name: Scène
Legend
All Layers and Tables
Layers:
Description:
Service Item Id: 7df377069b754caba998fb373c660130
Copyright Text:
Spatial Reference:
102110
(2154)
Single Fused Map Cache: true
Tile Info:
- Height: 256
- Width: 256
- DPI: 96
-
Levels of Detail: 19
-
Level ID: 0
[ Start Tile, End Tile ]
- Resolution: 283573.0555439535
- Scale: 1.0717721784338399E9
-
Level ID: 1
[ Start Tile, End Tile ]
- Resolution: 141786.52777197675
- Scale: 5.3588608921691996E8
-
Level ID: 2
[ Start Tile, End Tile ]
- Resolution: 70893.26388598837
- Scale: 2.6794304460845998E8
-
Level ID: 3
[ Start Tile, End Tile ]
- Resolution: 35446.63194299419
- Scale: 1.3397152230422999E8
-
Level ID: 4
[ Start Tile, End Tile ]
- Resolution: 17723.315971497093
- Scale: 6.6985761152114995E7
-
Level ID: 5
[ Start Tile, End Tile ]
- Resolution: 8861.657985748547
- Scale: 3.3492880576057497E7
-
Level ID: 6
[ Start Tile, End Tile ]
- Resolution: 4430.828992874273
- Scale: 1.6746440288028749E7
-
Level ID: 7
[ Start Tile, End Tile ]
- Resolution: 2215.4144964371367
- Scale: 8373220.144014374
-
Level ID: 8
[ Start Tile, End Tile ]
- Resolution: 1107.7072482185683
- Scale: 4186610.072007187
-
Level ID: 9
[ Start Tile, End Tile ]
- Resolution: 553.8536241092842
- Scale: 2093305.0360035936
-
Level ID: 10
[ Start Tile, End Tile ]
- Resolution: 276.9268120546421
- Scale: 1046652.5180017968
-
Level ID: 11
[ Start Tile, End Tile ]
- Resolution: 138.46340602732104
- Scale: 523326.2590008984
-
Level ID: 12
[ Start Tile, End Tile ]
- Resolution: 69.23170301366052
- Scale: 261663.1295004492
-
Level ID: 13
[ Start Tile, End Tile ]
- Resolution: 34.61585150683026
- Scale: 130831.5647502246
-
Level ID: 14
[ Start Tile, End Tile ]
- Resolution: 17.30792575341513
- Scale: 65415.7823751123
-
Level ID: 15
[ Start Tile, End Tile ]
- Resolution: 8.653962876707565
- Scale: 32707.89118755615
-
Level ID: 16
[ Start Tile, End Tile ]
- Resolution: 4.326981438353783
- Scale: 16353.945593778075
-
Level ID: 17
[ Start Tile, End Tile ]
- Resolution: 2.1634907191768913
- Scale: 8176.972796889037
-
Level ID: 18
[ Start Tile, End Tile ]
- Resolution: 1.0817453595884456
- Scale: 4088.4863984445187
- Format: Mixed
- Compression Quality: 75.0
- Origin: X: -3.559735110962605E7
Y: 4.261723696969339E7
- Spatial Reference: 102110
(2154)
Storage Info:
- Storage Format: esriMapCacheStorageModeCompactV2
- Packet Size: 128
Initial Extent:
XMin: 845146.2680023094
YMin: 6283486.870128582
XMax: 845434.6935483294
YMax: 6283724.707947944
Spatial Reference: 102110
(2154)
Full Extent:
XMin: 844554.0099999999
YMin: 6282834.378
XMax: 847764.6100000001
YMax: 6284801.777999999
Spatial Reference: 102110
(2154)
Units: esriMeters
Supported Image Format Types: PNG32,PNG24,PNG,JPG,DIB,TIFF,EMF,PS,PDF,GIF,SVG,SVGZ,BMP
Document Info:
Title: C:\Users\romain.bouzige\AppData\Local\Temp\ArcGISProTemp15248\Untitled\Untitled.aprx
Author:
Comments:
Subject:
Category:
Keywords:
AntialiasingMode: None
TextAntialiasingMode: Force
Supports Dynamic Layers: false
MaxRecordCount: 1000
MaxImageHeight: 4096
MaxImageWidth: 4096
Supported Query Formats: JSON, geoJSON, PBF
Supports Query Data Elements: true
Min Scale: 16353
Max Scale: 4088
Min LOD: 16
Max LOD: 18
Supports Datum Transformation: true
Child Resources:
Info
Supported Operations:
QueryLegends
Return Updates